BEGIN:VCALENDAR
VERSION:2.0
PRODID:-//Ночной клуб FIREBALL - ECPv6.15.20//NONSGML v1.0//EN
CALSCALE:GREGORIAN
METHOD:PUBLISH
X-WR-CALNAME:Ночной клуб FIREBALL
X-ORIGINAL-URL:http://fireball-club.ru
X-WR-CALDESC:Мероприятия для Ночной клуб FIREBALL
REFRESH-INTERVAL;VALUE=DURATION:PT1H
X-Robots-Tag:noindex
X-PUBLISHED-TTL:PT1H
BEGIN:VTIMEZONE
TZID:Europe/Moscow
BEGIN:STANDARD
TZOFFSETFROM:+0300
TZOFFSETTO:+0300
TZNAME:MSK
DTSTART:20250101T000000
END:STANDARD
END:VTIMEZONE
BEGIN:VEVENT
DTSTART;TZID=Europe/Moscow:20260419T193000
DTEND;TZID=Europe/Moscow:20260419T193000
DTSTAMP:20260419T195744
CREATED:20260329T223520Z
LAST-MODIFIED:20260403T131245Z
UID:15162-1776627000-1776627000@fireball-club.ru
SUMMARY:Анна Юркшат | концерт
DESCRIPTION:Рок-группа «Анна Юркшат» была создана в Санкт-Петербурге\, в 2021 году. \nЖелание выражать свои чувства и эмоции дало толчок к дальнейшему развитию. \nНемного философских текстов и мелодичной музыки создали свой стиль в исполнении. \nНам очень важно не только самим получать удовольствие от музыки\, но и нашим слушателям. \nВедь всё творчество\, оно в принципе\, для людей\, для исцеления и полёта душ. \n  \nСостав: \nАнна Юркшат — стихи\, музыка\, вокал\, гитара \nМаксим Галай — ударные \nВалерий Паршуткин — бас-гитара \nАндрей Тихонов — соло-гитара \n  \nТворчество позволяет оставаться настоящей. \nПомогает выражать свои чувства\, выплёскивать внутренние эмоции. \nЭто позволяет быть искренней\, открытой миру и любви. \nИ только лишь искренность может раскрывать сердца других.
URL:http://fireball-club.ru/event/anna-yurkshat-kontsert/
LOCATION:Fireball\, Альпийский переулок\, д. 30\, Санкт-Петербург\, 192286\, Российская Федерация
ATTACH;FMTTYPE=image/jpeg:http://fireball-club.ru/wp-content/uploads/2026/03/9UdxFBSO2YSbb_K-73BUuwAy3PWVBIwImUEHbLFG2KwLImu1tetQOdgN_y7U-1Ek-WmXI-SlZooDJUM2DqAd2qfy.jpg
ORGANIZER;CN="Fireball":MAILTO:nppsolid@yandex.ru
END:VEVENT
BEGIN:VEVENT
DTSTART;TZID=Europe/Moscow:20260419T210000
DTEND;TZID=Europe/Moscow:20260419T210000
DTSTAMP:20260419T195744
CREATED:20260329T232808Z
LAST-MODIFIED:20260329T232808Z
UID:15199-1776632400-1776632400@fireball-club.ru
SUMMARY:Дискотека | Караоке | Бильярд | Работаем с 21:00
DESCRIPTION:Вход для именинников и владельцев VIPcard бесплатный всю ночь! \n  \nВход с 22:00 до 23:00 — БЕСПЛАТНО! \nВход после 23:00: \nМужчины —300 руб. \nДевушки — 200 руб. \n  \nХочешь получить БЕСПЛАТНЫЙ вход? \nЧитай ниже😉👇 \nБЕСПЛАТНОЕ посещение клуба FIREBALL с 22:00 до 23:00 (после 23:00 — 50% скидка на вход)\,\nесли выполнишь ОБЯЗАТЕЛЬНЫЕ УСЛОВИЯ\n1. подпишись на нашу страницу в ВК https://vk.com/fireballspb или подпишись на наш Телеграмм-канал Ночной клуб FIREBALL\n2. сделай репост анонса акции в группе\, не позднее\, чем за 1 час до входа в клуб\n3. покажи подписку и репост поста на кассе\n4. приходи с 22:00 до 23:00 \, если опоздал\, не переживай\, после 23:00\, скидка 50% на вход!!! \n  \nНочной клуб FIREBALL стал не просто местом танца и прослушивания музыки. Он стал местом постоянной дислокации именно\, тех людей\, кто любит\, а главное — умеет отдыхать. Вы сможете вкусить все прелести безмятежного отдыха и безумного веселья\, слава Богу\, этих ресурсов здесь очень много. Отдых и веселье лучше всякого допинга заряжают энергией. А помогает в этом бесспорно самая энергичная и креативная команда клуба!
URL:http://fireball-club.ru/event/diskoteka-karaoke-bilyard-rabotaem-s-21-00-318/
LOCATION:Fireball\, Альпийский переулок\, д. 30\, Санкт-Петербург\, 192286\, Российская Федерация
ATTACH;FMTTYPE=image/jpeg:http://fireball-club.ru/wp-content/uploads/2026/03/xcUJS9z5o_rgDFbHq9tjRt7q1W-Yk-TiEkn8KhiaLPb0XZr6tHlwldkCgGE-7uGU4JByAqGv7FqMLtyNf_5SQcvU.jpg
ORGANIZER;CN="Fireball":MAILTO:nppsolid@yandex.ru
END:VEVENT
END:VCALENDAR