BEGIN:VCALENDAR
VERSION:2.0
PRODID:-//Ночной клуб FIREBALL - ECPv6.15.20//NONSGML v1.0//EN
CALSCALE:GREGORIAN
METHOD:PUBLISH
X-WR-CALNAME:Ночной клуб FIREBALL
X-ORIGINAL-URL:http://fireball-club.ru
X-WR-CALDESC:Мероприятия для Ночной клуб FIREBALL
REFRESH-INTERVAL;VALUE=DURATION:PT1H
X-Robots-Tag:noindex
X-PUBLISHED-TTL:PT1H
BEGIN:VTIMEZONE
TZID:Europe/Moscow
BEGIN:STANDARD
TZOFFSETFROM:+0300
TZOFFSETTO:+0300
TZNAME:MSK
DTSTART:20250101T000000
END:STANDARD
END:VTIMEZONE
BEGIN:VEVENT
DTSTART;TZID=Europe/Moscow:20260424T190000
DTEND;TZID=Europe/Moscow:20260424T190000
DTSTAMP:20260425T183926
CREATED:20260329T230530Z
LAST-MODIFIED:20260329T230530Z
UID:15181-1777057200-1777057200@fireball-club.ru
SUMMARY:МАКО | DJ Fiesta | Караоке | Бар | Бильярд | Работаем с 19:00
DESCRIPTION:На сцене кавер-группа МАКО \nМАКО исполняет западные и отечественные хиты. Наслаждаемся репертуаром — кавер версиями таких исполнителей как: Smokie\, ZZ-Top\, Stevie Ray Vaughan\, Elton Jhon\, Браво\, Ю.Антонов\, Ленинград\, Чиж\, КиШ и многих\, многих других! \n  \nЗа пультом DJ Fiesta \nГорячие сеты в формате ХИТ NON-STOP! Зажечь танцпол — их работа\, и они ее любят! Новинки\, Рок и Ретро\, Original & Remix’s!! Все\, что Вам нравится! Скучать не придется\, — проверено!! \nВход для именинников\, владельцев VIPcard — бесплатный всю ночь! \n  \nВход c 21:30 до 22:00 — БЕСПЛАТНO! \nВход после 22:00: \nМужчины — 600 руб. \nДевушки — 300 руб. \n  \nХочешь получить БЕСПЛАТНЫЙ вход? \nЧитай ниже😉👇 \nБЕСПЛАТНОЕ посещение клуба FIREBALL с 21:30 до 22:00 (после 22:00 — 50% скидка на вход)\,\nесли выполнишь ОБЯЗАТЕЛЬНЫЕ УСЛОВИЯ\n1. подпишись на нашу страницу в ВК https://vk.com/fireballspb или подпишись на наш Телеграмм-канал Ночной клуб FIREBALL\n2. сделай репост анонса акции в группе\, не позднее\, чем за 1 час до входа в клуб\n3. покажи подписку и репост поста на кассе\n4. приходи с 21:30 до 22:00 \, если опоздал\, не переживай\, после 22:00\, скидка 50% на вход!!! \n  \nНочной клуб «FIREBALL» стал не просто местом танца и прослушивания музыки. Он стал местом постоянной дислокации именно\, тех людей\, кто любит\, а главное — умеет отдыхать. Вы сможете вкусить все прелести безмятежного отдыха и безумного веселья\, слава Богу\, этих ресурсов здесь очень много. Отдых и веселье лучше всякого допинга заряжают энергией. А помогает в этом бесспорно самая энергичная и креативная команда клуба!
URL:http://fireball-club.ru/event/mako-dj-fiesta-karaoke-bar-bilyard-rabotaem-s-19-00-46/
LOCATION:Fireball\, Альпийский переулок\, д. 30\, Санкт-Петербург\, 192286\, Российская Федерация
ATTACH;FMTTYPE=image/jpeg:http://fireball-club.ru/wp-content/uploads/2026/03/hbnkoTJZofBJFith_fFbITENL21TwvY1noTilpXqX4tn-T15mtAa_tc1iGilop2z5-jvEpgpSZDYTJaISy35AfI0.jpg
ORGANIZER;CN="Fireball":MAILTO:nppsolid@yandex.ru
END:VEVENT
BEGIN:VEVENT
DTSTART;TZID=Europe/Moscow:20260424T200000
DTEND;TZID=Europe/Moscow:20260424T200000
DTSTAMP:20260425T183926
CREATED:20260324T154829Z
LAST-MODIFIED:20260324T155225Z
UID:15099-1777060800-1777060800@fireball-club.ru
SUMMARY:4 апреля | 18 лет - совершеннолетие | концерт
DESCRIPTION:Сергей Веременко — вокал\, гитара\, стихи \nЮрий Швилли — ударные\, вокал\,стихи \nАндрей Тресков — гитара\, вокал \nРома Нетонем — бас-гитара \nБилеты здесь \nДрузья\, до ближайших концертов остался месяц!\nС нетерпением ждём встречи с вами и дарим скидку 13%! \nПокупайте билеты заранее по выгодной стоимости \nАкция действует до 24 марта
URL:http://fireball-club.ru/event/4-aprelya-18-let-sovershennoletie-kontsert/
LOCATION:Fireball\, Альпийский переулок\, д. 30\, Санкт-Петербург\, 192286\, Российская Федерация
ATTACH;FMTTYPE=image/jpeg:http://fireball-club.ru/wp-content/uploads/2026/03/3bgMrLbzoEjcADPXxXY1GdMi0YK1AgJk_XLKftOsGvYY1LtaBWY-jIfaOscTOkkfeZSELtIzvE5dN7GtzJZVWCqB.jpg
ORGANIZER;CN="Fireball":MAILTO:nppsolid@yandex.ru
END:VEVENT
END:VCALENDAR