BEGIN:VCALENDAR
VERSION:2.0
PRODID:-//Ночной клуб FIREBALL - ECPv6.15.20//NONSGML v1.0//EN
CALSCALE:GREGORIAN
METHOD:PUBLISH
X-WR-CALNAME:Ночной клуб FIREBALL
X-ORIGINAL-URL:http://fireball-club.ru
X-WR-CALDESC:Мероприятия для Ночной клуб FIREBALL
REFRESH-INTERVAL;VALUE=DURATION:PT1H
X-Robots-Tag:noindex
X-PUBLISHED-TTL:PT1H
BEGIN:VTIMEZONE
TZID:Europe/Moscow
BEGIN:STANDARD
TZOFFSETFROM:+0300
TZOFFSETTO:+0300
TZNAME:MSK
DTSTART:20250101T000000
END:STANDARD
END:VTIMEZONE
BEGIN:VEVENT
DTSTART;TZID=Europe/Moscow:20260425T183000
DTEND;TZID=Europe/Moscow:20260425T183000
DTSTAMP:20260425T164155
CREATED:20260329T230035Z
LAST-MODIFIED:20260423T212723Z
UID:15176-1777141800-1777141800@fireball-club.ru
SUMMARY:АГNИЯ БАРТЕZ top | фестиваль
DESCRIPTION:Если вы хотите отдохнуть после рабочей недели\, послушать хорошую музыку и потанцевать под популярные хиты\, приходите в клуб «Fireball». Приглашаем Вас на музыкальный фестиваль «АГNИЯ БАРТЕZ top». На сцене клуба выступят самые лучшие и самобытные группы Санкт-Петербурга. \nСтраница встречи \nВ фестивале участвуют :\nBearmood – музыкальный коллектив из Санкт-Петербурга\, в творчестве которого сплелись голос русского севера\, энергичные ритмы поп-панка и завораживающие гармонии альт-рока. Песни группы — это диалог с внешним миром через внутренний и обратно; это поиск\, вера\, вопросы\, клич и любовь. BEARMOOD — это музыка. Музыка наших сердец.\nHeadtrees – пришли в этот мир\, чтобы подвергать сомнениям любые правила и стереотипы. Музыка группы — это столкновение биохимии и цифрового сигнала\, в жанрах alternative rock\, witch house\, synth wave\, cyberpunk и grunge\, а песни о внутренних конфликтах\, о которых не принято говорить в слух. Headtrees — любовь и ненависть современности.\nВагон без Джо – пятеро парней из Санкт-Петербурга\, играющих быстрый и энергичный русский рок с элементами панк-рока\, хард-рока и хардкора\nVerte! – Играют там\, где тихо\, то\, о чём громко внутри. Честный рок\, авторские композиции и заглянувший на огонёк лайт-джаз. Впусти их звук в свой вечер и доверься их энергии.\nAl Dente – группа друзей\, которые однажды собрались поиграть вместе и превратили это в любимое хобби. Рок\, фанк и поп. Музыка для души и удовольствия — и группа старается\, чтобы это чувствовал каждый\, кто их слушает.\nСлякоть – проект о подростковых проблемах и попытках справиться с ними «хотя бы назло». \n Начало фестиваля в 18:30\n Вход: 700руб.\nЗа билетами по акции обращайтесь личными сообщениями к организатору фестиваля Владимиру Бредихину vk.com/vbredikhin Цена билетов по акции — 500р.
URL:http://fireball-club.ru/event/agniya-bartez-top-festival/
LOCATION:Fireball\, Альпийский переулок\, д. 30\, Санкт-Петербург\, 192286\, Российская Федерация
ATTACH;FMTTYPE=image/jpeg:http://fireball-club.ru/wp-content/uploads/2026/03/g2MW3AVmKbNtAFaXAd63Z_uld74AK6TlR7y-hmYF59JYsWBzBX0Km3_yjnfnXZwyyLKsCUXXPGD14j3-mID7Ac5C.jpg
ORGANIZER;CN="Fireball":MAILTO:nppsolid@yandex.ru
END:VEVENT
BEGIN:VEVENT
DTSTART;TZID=Europe/Moscow:20260425T190000
DTEND;TZID=Europe/Moscow:20260425T190000
DTSTAMP:20260425T164155
CREATED:20260329T231958Z
LAST-MODIFIED:20260329T231958Z
UID:15192-1777143600-1777143600@fireball-club.ru
SUMMARY:МАКО | Караоке | Бар | Бильярд | Работаем с 19:00
DESCRIPTION:На сцене кавер-группа МАКО \nМАКО исполняет западные и отечественные хиты. Наслаждаемся репертуаром — кавер версиями таких исполнителей как: Smokie\, ZZ-Top\, Stevie Ray Vaughan\, Elton Jhon\, Браво\, Ю.Антонов\, Ленинград\, Чиж\, КиШ и многих\, многих других! \n  \nВход для именинников\, владельцев VIPcard — бесплатный всю ночь! \n  \nВход с 21:30 до 22:00 — БЕСПЛАТНO! \nВход после 22:00: \nМужчины — 600 руб. \nДевушки — 300 руб. \n  \nХочешь получить БЕСПЛАТНЫЙ вход? \nЧитай ниже😉👇 \nБЕСПЛАТНОЕ посещение клуба FIREBALL с 21:30 до 22:00 (после 22:00 — 50% скидка на вход)\,\nесли выполнишь ОБЯЗАТЕЛЬНЫЕ УСЛОВИЯ\n1. подпишись на нашу страницу в ВК https://vk.com/fireballspb или подпишись на наш Телеграмм-канал Ночной клуб FIREBALL\n2. сделай репост анонса акции в группе\, не позднее\, чем за 1 час до входа в клуб\n3. покажи подписку и репост поста на кассе\n4. приходи с 21:30 до 22:00 \, если опоздал\, не переживай\, после 22:00\, скидка 50% на вход!!! \n  \nНочной клуб «FIREBALL» стал не просто местом танца и прослушивания музыки. Он стал местом постоянной дислокации именно\, тех людей\, кто любит\, а главное — умеет отдыхать. Вы сможете вкусить все прелести безмятежного отдыха и безумного веселья\, слава Богу\, этих ресурсов здесь очень много. Отдых и веселье лучше всякого допинга заряжают энергией. А помогает в этом бесспорно самая энергичная и креативная команда клуба!
URL:http://fireball-club.ru/event/mako-karaoke-bar-bilyard-rabotaem-s-19-00-109/
LOCATION:Fireball\, Альпийский переулок\, д. 30\, Санкт-Петербург\, 192286\, Российская Федерация
ATTACH;FMTTYPE=image/jpeg:http://fireball-club.ru/wp-content/uploads/2023/01/IMG_1001-683x1024-1.jpg
ORGANIZER;CN="Fireball":MAILTO:nppsolid@yandex.ru
END:VEVENT
END:VCALENDAR