BEGIN:VCALENDAR
VERSION:2.0
PRODID:-//Ночной клуб FIREBALL - ECPv6.15.20//NONSGML v1.0//EN
CALSCALE:GREGORIAN
METHOD:PUBLISH
X-WR-CALNAME:Ночной клуб FIREBALL
X-ORIGINAL-URL:http://fireball-club.ru
X-WR-CALDESC:Мероприятия для Ночной клуб FIREBALL
REFRESH-INTERVAL;VALUE=DURATION:PT1H
X-Robots-Tag:noindex
X-PUBLISHED-TTL:PT1H
BEGIN:VTIMEZONE
TZID:Europe/Moscow
BEGIN:STANDARD
TZOFFSETFROM:+0300
TZOFFSETTO:+0300
TZNAME:MSK
DTSTART:20250101T000000
END:STANDARD
END:VTIMEZONE
BEGIN:VEVENT
DTSTART;TZID=Europe/Moscow:20260430T190000
DTEND;TZID=Europe/Moscow:20260430T190000
DTSTAMP:20260422T200821
CREATED:20260329T233000Z
LAST-MODIFIED:20260414T094725Z
UID:15201-1777575600-1777575600@fireball-club.ru
SUMMARY:Дискотека | Караоке | Бильярд | Работаем с 19:00
DESCRIPTION:Вход для именинников и владельцев VIPcard бесплатный всю ночь! \n  \nВход с 21:30 до 22:00 — БЕСПЛАТНО! \nВход после 22:00: \nМужчины —600 руб. \nДевушки — 300 руб. \n  \nХочешь получить БЕСПЛАТНЫЙ вход? \nЧитай ниже😉👇 \nБЕСПЛАТНОЕ посещение клуба FIREBALL с 21:30 до 22:00 (после 22:00 — 50% скидка на вход)\,\nесли выполнишь ОБЯЗАТЕЛЬНЫЕ УСЛОВИЯ\n1. подпишись на нашу страницу в ВК https://vk.com/fireballspb или подпишись на наш Телеграмм-канал Ночной клуб FIREBALL\n2. сделай репост анонса акции в группе\, не позднее\, чем за 1 час до входа в клуб\n3. покажи подписку и репост поста на кассе\n4. приходи с 21:30 до 22:00 \, если опоздал\, не переживай\, после 22:00\, скидка 50% на вход!!! \n  \nНочной клуб FIREBALL стал не просто местом танца и прослушивания музыки. Он стал местом постоянной дислокации именно\, тех людей\, кто любит\, а главное — умеет отдыхать. Вы сможете вкусить все прелести безмятежного отдыха и безумного веселья\, слава Богу\, этих ресурсов здесь очень много. Отдых и веселье лучше всякого допинга заряжают энергией. А помогает в этом бесспорно самая энергичная и креативная команда клуба!
URL:http://fireball-club.ru/event/diskoteka-karaoke-bilyard-rabotaem-s-21-00-319/
LOCATION:Fireball\, Альпийский переулок\, д. 30\, Санкт-Петербург\, 192286\, Российская Федерация
ATTACH;FMTTYPE=image/jpeg:http://fireball-club.ru/wp-content/uploads/2026/03/uoR4CWdB4XQAF5MGsHnxkz3giFXbAuT7Lq9hyD8XvYnc3g2oQWdbQ44hF7QalKJRfoRsIQF9-gQ3noSfWJ1dc2px.jpg
ORGANIZER;CN="Fireball":MAILTO:nppsolid@yandex.ru
END:VEVENT
BEGIN:VEVENT
DTSTART;TZID=Europe/Moscow:20260501T190000
DTEND;TZID=Europe/Moscow:20260501T190000
DTSTAMP:20260422T200821
CREATED:20260410T133712Z
LAST-MODIFIED:20260410T133712Z
UID:15212-1777662000-1777662000@fireball-club.ru
SUMMARY:ROCK SEZON | фестиваль
DESCRIPTION:
URL:http://fireball-club.ru/event/rock-sezon-festival/
LOCATION:Fireball\, Альпийский переулок\, д. 30\, Санкт-Петербург\, 192286\, Российская Федерация
ATTACH;FMTTYPE=image/jpeg:http://fireball-club.ru/wp-content/uploads/2026/04/EXAKabOTT4rMSCm3B0V-INJ4i_6hVpAJ-m3xrzOmbasnge6Xa2prSrOrCiN9yaxIAgbjciRYm6gWM_qj-5O6LObk.jpg
ORGANIZER;CN="Fireball":MAILTO:nppsolid@yandex.ru
END:VEVENT
BEGIN:VEVENT
DTSTART;TZID=Europe/Moscow:20260511T180000
DTEND;TZID=Europe/Moscow:20260511T180000
DTSTAMP:20260422T200821
CREATED:20260412T222558Z
LAST-MODIFIED:20260412T222558Z
UID:15216-1778522400-1778522400@fireball-club.ru
SUMMARY:Свободный Звук | FreeSound_1.9 | благотворительный фестиваль
DESCRIPTION:Дорогие друзья! \nПриглашаем всех неравнодушных на десятый ЮБИЛЕЙНЫЙ концерт фестиваля Свободный звук! \n✅11 мая 2026 года в 18.00! \n🎸Место проведения — FIREBALL- клуб/бар/караоке \nОрганизаторы фестиваля: \nАНО «Нет предела» \nИнклюзивная Творческая Студия «Иной Взгляд» \nЖдем всех послушать хорошую музыку и помочь хорошему делу! \nПрисоединяйтесь к доброму через Свободный звук! \nFree Sound (Свободный Звук) – это коллектив музыкантов\, объединенных общей идеей связанной с благотворительными концертами. Проект FS включает в себя музыку без каких-либо ограничений\, что позволяет присоединится к нему всем. \nБлаготворительный взнос (стоимость входного билета) — от 100 рублей
URL:http://fireball-club.ru/event/svobodnyj-zvuk-freesound_1-9-blagotvoritelnyj-festival/
LOCATION:Fireball\, Альпийский переулок\, д. 30\, Санкт-Петербург\, 192286\, Российская Федерация
ATTACH;FMTTYPE=image/jpeg:http://fireball-club.ru/wp-content/uploads/2026/04/Afisha_FS_110526.jpg
ORGANIZER;CN="Fireball":MAILTO:nppsolid@yandex.ru
END:VEVENT
END:VCALENDAR